BEGIN:VCALENDAR
VERSION:2.0
PRODID:-//pretix//Bonn.digital_Ticket//
BEGIN:VTIMEZONE
TZID:Europe/Berlin
BEGIN:STANDARD
DTSTART:20001029T040000
RRULE:FREQ=YEARLY;BYDAY=-1SU;BYMONTH=10
TZNAME:CET
TZOFFSETFROM:+0200
TZOFFSETTO:+0100
END:STANDARD
BEGIN:DAYLIGHT
DTSTART:20000326T030000
RRULE:FREQ=YEARLY;BYDAY=-1SU;BYMONTH=3
TZNAME:CEST
TZOFFSETFROM:+0100
TZOFFSETTO:+0200
END:DAYLIGHT
END:VTIMEZONE
BEGIN:VEVENT
UID:pretix-bonndigital-fuckupnights-10@ticket.bonn.digital
DTSTART;TZID=Europe/Berlin:20190321T190000
DTEND;TZID=Europe/Berlin:20190321T200000
DESCRIPTION:Tickets: https://ticket.bonn.digital/bonndigital/fuckupnights/1
 0/\nEinlass: 21.03.2019 18:30\nVeranstalter: Bonn.digital eGbR
DTSTAMP:20260425T004404Z
LOCATION:Post Tower\, Charles-de-Gaulle-Straße 20\, 53113 Bonn
SUMMARY:FuckUp Nights Bonn Vol. IV
END:VEVENT
END:VCALENDAR
